BEGIN:VCALENDAR
PRODID:jungewirtschaft.at//WKO
VERSION:2.0
METHOD:PUBLISH
X-MS-OLK-FORCEINSPECTOROPEN:TRUE
BEGIN:VTIMEZONE
TZID:Europe/Vienna
BEGIN:STANDARD
DTSTART:16011028T030000
RRULE:FREQ=YEARLY;BYDAY=-1SU;BYMONTH=10
TZOFFSETFROM:+0200
TZOFFSETTO:+0100
END:STANDARD
BEGIN:DAYLIGHT
DTSTART:16010325T020000
RRULE:FREQ=YEARLY;BYDAY=-1SU;BYMONTH=3
TZOFFSETFROM:+0100
TZOFFSETTO:+0200
END:DAYLIGHT
END:VTIMEZONE
BEGIN:VEVENT
SUMMARY:JW University | Business Talks - Das Gründungs-1x1
DTSTART;TZID=Europe/Vienna:20260513T180000
DTEND;TZID=Europe/Vienna:20260513T210000
DTSTAMP:20260425T190044
LOCATION:Rooftop Mensa der TU Graz
DESCRIPTION:Du hast eine Idee im Kopf &ndash; aber keinen Plan, wie du starten sollst? Dann ist unser n&auml;chstes Event genau das Richtige f&uuml;r dich! Erfahre in einer spannenden Keynote, welche Unterst&uuml;tzungsm&ouml;glichkeiten es f&uuml;r dich gibt, und vernetze dich mit Jungunternehmer:innen, die den Schritt bereits gewagt haben.
UID:a1ef8a19-6b6b-470f-b628-a66228b2da11@jungewirtschaft.at
END:VEVENT
END:VCALENDAR