BEGIN:VCALENDAR
PRODID:jungewirtschaft.at//WKO
VERSION:2.0
METHOD:PUBLISH
X-MS-OLK-FORCEINSPECTOROPEN:TRUE
BEGIN:VTIMEZONE
TZID:Europe/Vienna
BEGIN:STANDARD
DTSTART:16011028T030000
RRULE:FREQ=YEARLY;BYDAY=-1SU;BYMONTH=10
TZOFFSETFROM:+0200
TZOFFSETTO:+0100
END:STANDARD
BEGIN:DAYLIGHT
DTSTART:16010325T020000
RRULE:FREQ=YEARLY;BYDAY=-1SU;BYMONTH=3
TZOFFSETFROM:+0100
TZOFFSETTO:+0200
END:DAYLIGHT
END:VTIMEZONE
BEGIN:VEVENT
SUMMARY:THINK DIFFERENT - THINK NEW | Roadshow Bruck-Mürzzuschlag (Location TBA) Junge Wirtschaft
DTSTART;TZID=Europe/Vienna:20261015T173000
DTEND;TZID=Europe/Vienna:20261015T200000
DTSTAMP:20260425T204240
LOCATION:Wirtschaftskammer Steiermark
DESCRIPTION:Erfolg in einer sich rasant ver&auml;ndernden Welt beginnt im Kopf. In diesem Vortrag erf&auml;hrst du, welche Eigenschaften ein&nbsp;echtes Innovation Mindset&nbsp;ausmachen und wie du es in dir selbst entwickeln kannst. Inspirierende&nbsp;Impulse&nbsp;und praktische&nbsp;Mini-&Uuml;bungen&nbsp;zeigen dir, wie du&nbsp;Neugier, Mut und Chancendenken&nbsp;aktiv trainierst &ndash; f&uuml;r deinen n&auml;chsten unternehmerischen Durchbruch.&nbsp; Impuls:&nbsp;Hans Lercher | Innovations&shy;&shy;&shy;management, FH Campus 02 FH-Prof. Dr. Hans J. Lercher ist Gr&uuml;nder der BIG Business Innovation GmbH und Autor des Grazer Innovationsmodells &bdquo;BIG Picture&quot;. Innovation Mindset bedeutet, heute schon zu denken wie dein zuk&uuml;nftiges Ich &ndash; mit einer Denkweise, die Grenzen hinterfragt und Neues m&ouml;glich macht. Es ist die F&auml;higkeit, gewohnte Muster zu durchbrechen, Probleme aus neuen Blickwinkeln zu betrachten und mutig voranzugehen. Beim Innovation Mindset geht es darum, nicht nur Ideen zu sammeln, sondern sie zu leben: Fehler werden zu Sprungbrettern, Ver&auml;nderungen zu Chancen und Neugier zum Motor des Fortschritts. Diese Roadshow vermittelt den Teilnehmern konkrete Impulse, wie sie dieses zukunftsorientierte Denken entwickeln und in ihren Alltag integrieren k&ouml;nnen &ndash;&nbsp;THINK&nbsp;DIFFERENT, THINK NEW. Alle Termine:&nbsp;www.roadshow.st
UID:395b8cce-e08c-472f-a173-1a18f2a41900@jungewirtschaft.at
END:VEVENT
END:VCALENDAR